BEGIN:VCALENDAR
VERSION:2.0
CALSCALE:GREGORIAN
PRODID:adamgibbons/ics
METHOD:PUBLISH
X-PUBLISHED-TTL:PT1H
BEGIN:VEVENT
UID:11@agenda.henares.org
SUMMARY:Taller: Aprende a interpretar tu factura eléctrica
DTSTAMP:20260424T183255Z
DTSTART:20260508T163000Z
URL:https://agenda.henares.org/event/taller-aprende-a-interpretar-tu-factur
	a-electrica
GEO:40.4828329;-3.352938
LOCATION:Agua de Mayo - Avda. Virgen del Val\, 7
STATUS:CONFIRMED
CATEGORIES:Comunidad energética,La Alcalina,Pobreza energética,taller
END:VEVENT
END:VCALENDAR
